BEGIN:VCALENDAR
VERSION:2.0
PRODID:-//ExpressionEngine Easy iCalendar plugin//NONSGML v2.0.1//EN
X-WR-TIMEZONE:America/New_York
X-WR-CALNAME:Upcoming Auctions
BEGIN:VEVENT
UID:161024
DTSTAMP:20260701T100000
DTSTART:20260701T100000
DTEND:20260715T100000
SUMMARY:Jul. 1st\, 2026 - Jul. 15th\, 2026 - Multi-Jurisdiction Nonjud
 icial TAX AUCTION
LOCATION:{location}
DESCRIPTION:15 Parcels MULTI-JURISDICTION NONJUDICIAL TAX AUCTION - 07/
 01/26 - 07/15/26 ACCOMACK COUNTY\, CITY OF CHESAPEAKE\, CITY 
 OF EMPORIA\, CITY OF HOPEWELL\, CITY OF SUFFOLK\, & WARREN COUN
 TY This auction will be Online Only! This auction will open 
 for online bidding on Wednesday\, July 1st\, 2026 @ 10:00 AM 
 and will begin to close Wednesday\, July 15th\, 2026 @ 10:00
  AM. This is subject to auto-extend bidding. There is a 15% 
 Buyer's Premium for this auction. There is a $200.00 deed re
 cordation fee. Properties shall be paid in full the day of t
 he sale by cash\, cashier's check\, money order\, or wire trans
 fer. The successful bidder shall deposit the bid price\, a 15
 % buyers premium\, and $200.00 for recordation of the Deed wi
 th Virginia Auction Co.\, Inc. within 2 hours of the close o
 f the auction. Payments will be made at Virginia Auction C
 ompany\, 3533 Pruden Blvd.\, Suffolk\, VA 23434 - or wire tran
 sfer ($15.00 fee to be added for wire transfers - wire infor
 mation will be provided at the close of auction) ** Note - I
 f you are still pending approval after 07/01/26 at 10:00 AM
  please call our office at 757-538-0123 **
URL:https://www.vaauctionco.com/auctions/detail/bw161024
SEQUENCE:1
END:VEVENT
END:VCALENDAR