BEGIN:VCALENDAR
VERSION:2.0
PRODID:-//ExpressionEngine Easy iCalendar plugin//NONSGML v2.0.1//EN
X-WR-TIMEZONE:America/New_York
X-WR-CALNAME:Upcoming Auctions
BEGIN:VEVENT
UID:61765
DTSTAMP:20210327T110000
DTSTART:20210327T110000
DTEND:20210327T120000
SUMMARY:Indian Acres Tax Auction
LOCATION:{location}
DESCRIPTION:This auction will be live on-site at The Holbert Building\, 9
 104 Courthouse Road\, Spotsylvania\, VA 22553 on Saturday\, Mar
 ch 27th\, 2021 @ 11:00AM
URL:https://www.vaauctionco.com/auctions/detail/bw61765
SEQUENCE:1
END:VEVENT
END:VCALENDAR